BEGIN:VCALENDAR
VERSION:2.0
PRODID:-//HappyJapan Multi-needle Embroidery Machines - ECPv6.15.20//NONSGML v1.0//EN
CALSCALE:GREGORIAN
METHOD:PUBLISH
X-ORIGINAL-URL:https://happyemb.com
X-WR-CALDESC:Events for HappyJapan Multi-needle Embroidery Machines
REFRESH-INTERVAL;VALUE=DURATION:PT1H
X-Robots-Tag:noindex
X-PUBLISHED-TTL:PT1H
BEGIN:VTIMEZONE
TZID:America/New_York
BEGIN:DAYLIGHT
TZOFFSETFROM:-0500
TZOFFSETTO:-0400
TZNAME:EDT
DTSTART:20180311T070000
END:DAYLIGHT
BEGIN:STANDARD
TZOFFSETFROM:-0400
TZOFFSETTO:-0500
TZNAME:EST
DTSTART:20181104T060000
END:STANDARD
BEGIN:DAYLIGHT
TZOFFSETFROM:-0500
TZOFFSETTO:-0400
TZNAME:EDT
DTSTART:20190310T070000
END:DAYLIGHT
BEGIN:STANDARD
TZOFFSETFROM:-0400
TZOFFSETTO:-0500
TZNAME:EST
DTSTART:20191103T060000
END:STANDARD
BEGIN:DAYLIGHT
TZOFFSETFROM:-0500
TZOFFSETTO:-0400
TZNAME:EDT
DTSTART:20200308T070000
END:DAYLIGHT
BEGIN:STANDARD
TZOFFSETFROM:-0400
TZOFFSETTO:-0500
TZNAME:EST
DTSTART:20201101T060000
END:STANDARD
END:VTIMEZONE
BEGIN:VEVENT
DTSTART;TZID=America/New_York:20191003T100000
DTEND;TZID=America/New_York:20191005T150000
DTSTAMP:20260424T100750
CREATED:20190707T181638Z
LAST-MODIFIED:20190707T181638Z
UID:6580-1570096800-1570287600@happyemb.com
SUMMARY:Trade Show: ISS Fort Worth
DESCRIPTION:Come see HAPPY embroidery machines at ISS Fort Worth\, Thursday-Saturday October 3-5 at the Fort Worth Convention Center in Fort Worth\, Texas! Watch our single and multihead embroidery machines in action!  Get your questions answered\, become a new owner or start on the road to ownership of a new HAPPY multi-needle embroidery machine!
URL:https://happyemb.com/event/trade-show-iss-fort-worth-2/
LOCATION:Fort Worth Convention Center\, 1201 Houston Street\, Fort Worth\, TX\, 76102\, United States
CATEGORIES:Trade Show
ORGANIZER;CN="Rene Rosales":MAILTO:rrosales@texmacusa.com
END:VEVENT
END:VCALENDAR